BEGIN:VCALENDAR
VERSION:2.0
PRODID:-//Villa Ichon - ECPv6.15.20//NONSGML v1.0//EN
CALSCALE:GREGORIAN
METHOD:PUBLISH
X-WR-CALNAME:Villa Ichon
X-ORIGINAL-URL:https://www.villa-ichon.de
X-WR-CALDESC:Veranstaltungen für Villa Ichon
REFRESH-INTERVAL;VALUE=DURATION:PT1H
X-Robots-Tag:noindex
X-PUBLISHED-TTL:PT1H
BEGIN:VTIMEZONE
TZID:Europe/Berlin
BEGIN:DAYLIGHT
TZOFFSETFROM:+0100
TZOFFSETTO:+0200
TZNAME:CEST
DTSTART:20250330T010000
END:DAYLIGHT
BEGIN:STANDARD
TZOFFSETFROM:+0200
TZOFFSETTO:+0100
TZNAME:CET
DTSTART:20251026T010000
END:STANDARD
BEGIN:DAYLIGHT
TZOFFSETFROM:+0100
TZOFFSETTO:+0200
TZNAME:CEST
DTSTART:20260329T010000
END:DAYLIGHT
BEGIN:STANDARD
TZOFFSETFROM:+0200
TZOFFSETTO:+0100
TZNAME:CET
DTSTART:20261025T010000
END:STANDARD
BEGIN:DAYLIGHT
TZOFFSETFROM:+0100
TZOFFSETTO:+0200
TZNAME:CEST
DTSTART:20270328T010000
END:DAYLIGHT
BEGIN:STANDARD
TZOFFSETFROM:+0200
TZOFFSETTO:+0100
TZNAME:CET
DTSTART:20271031T010000
END:STANDARD
END:VTIMEZONE
BEGIN:VEVENT
DTSTART;TZID=Europe/Berlin:20260124T160000
DTEND;TZID=Europe/Berlin:20260425T160000
DTSTAMP:20260423T105821
CREATED:20251219T120516Z
LAST-MODIFIED:20260227T145339Z
UID:10001191-1769270400-1777132800@www.villa-ichon.de
SUMMARY:Ausstellung HUMAN NATURE Mehrfarbige großformatige Linoldrucke Pia E. van Nuland
DESCRIPTION:HUMAN NATURE\nMehrfarbige großformatige Linoldrucke\nPia E. van Nuland\n24. Januar 2026 – 25. April 2026 \nDie deutsch-niederländische Künstlerin Pia E. van Nuland präsentiert ihre neue Einzelausstellung „HUMAN NATURE“ in der Villa Ichon. Im Zentrum ihrer Arbeit steht das vielschichtige Verhältnis zwischen Mensch und Natur. Pia van Nuland beobachtet Landschaften – von unberührten Wäldern bis hin zu urbanen Räumen – und übersetzt Wahrnehmung\, Erinnerung und Atmosphäre in eine eigenständige\, poetische Bildsprache. \nDie Ausstellung zeigt mehrfarbige Linoldrucke\, die aus bis zu zwanzig einzelnen Druckstöcken Schicht für Schicht aufgebaut werden. Farbe\, Struktur und zeichnerische Elemente schaffen narrative Räume\, die Bewegung und Stillstand\, Realität und Imagination verbinden. Die Werke eröffnen keine abgeschlossenen Geschichten\, sondern lassen den Betrachtenden eigene Assoziationen und Bedeutungen entdecken. \nPia van Nuland studierte an der AKI Akademie für Kunst und Industrie in den Niederlanden sowie am Edinburgh College of Art in Großbritannien. Ihre Arbeiten wurden international ausgestellt – unter anderem in Edinburgh\, Rotterdam\, München\, Berlin\, Salt Lake City\, Japan und Tschechien – und befinden sich in bedeutenden öffentlichen und privaten Sammlungen. Seit 2019 wird sie von Modern West Fine Art (USA) vertreten. 2022 gründete sie mit ihrem Mann den PEPITA SALON als Plattform für künstlerischen Austausch in Bremen. Von 2023 bis 2026 ist sie Stipendiatin am ZfK – Zentrum für Kunst im Tabakquartier Bremen. \n„HUMAN NATURE“ lädt die Besucher:innen ein\, Natur und Mensch in poetischen\, räumlichen Bildwelten zu erleben\, in denen Farbe\, Form und Struktur Stille\, Atmosphäre und Reflexion erzeugen. \nFörderer: Karin und Uwe Hollweg Stiftung\, Freunde und Förderer der Villa Ichon in Bremen e.V. \nAbbildung Pia E. van Nuland\, Titel: INITIATION\, Linoldruck mit 9 Farben\, Öl auf Leinwand\, 180 x 120 cm\, 2024 \nHier geht es zur Galerie \n\n			\n				\n			\n			\n				\n			\n				\n				Screenshot
URL:https://www.villa-ichon.de/kalender/ausstellungseroeffnung-human-nature-mehrfarbige-grossformatige-linoldrucke-pia-e-van-nuland/
LOCATION:Alle Räume (Kaminsaal\, Goldener und Weißer Saal)
CATEGORIES:Kunst
ATTACH;FMTTYPE=image/jpeg:https://www.villa-ichon.de/wp-content/uploads/Initiation-Pia-E-vanNuland-S2-scaled.jpg
END:VEVENT
BEGIN:VEVENT
DTSTART;TZID=Europe/Berlin:20260419T110000
DTEND;TZID=Europe/Berlin:20260419T110000
DTSTAMP:20260423T105821
CREATED:20260328T152616Z
LAST-MODIFIED:20260328T152616Z
UID:10001807-1776596400-1776596400@www.villa-ichon.de
SUMMARY:Einladung zur Finissage der Ausstellung „HUMAN NATURE“
DESCRIPTION:Liebe Freund:innen der Kunst\, liebe Gäste\, \nzum Abschluss der Ausstellung HUMAN NATURE von Pia E. van Nuland laden wir Sie herzlich zur Finissage in die Villa Ichon ein. \nSonntag\, 19. April um 11 Uhr in der Villa Ichon \nBesonderer Programmpunkt: \nIm Rahmen der Finissage erscheint erstmals der neue Katalog \n„The Sound of a Landscape“. \n \nIn ihren großformatigen und mehrteiligen Linolschnitten beschäftigt sich die Künstlerin mit der vielschichtigen Beziehung zwischen Mensch und Natur – nicht belehrend oder mahnend\, sondern über Nähe\, Vertrautheit und Wahrnehmung. \nIhre Werke entstehen in einem aufwendigen\, schichtweisen Druckprozess und verbinden klare Linien mit intensiven Farbflächen zu atmosphärischen Bildräumen\, die weniger Orte zeigen als Zustände. \nInspiriert von Landschaften aus Europa\, den USA\, Australien und Japan entstehen Bilder\, die zwischen Erinnerung\, Vorstellung und Beobachtung schweben. Wälder\, Wasser\, Boote und weite Räume tauchen immer wieder auf und laden dazu ein\, sich Zeit zu nehmen\, genau hinzusehen und die eigene Beziehung zur Natur neu zu entdecken. \nDie Finissage bietet eine letzte Gelegenheit\, die Ausstellung in Ruhe zu erleben und gemeinsam den Abschluss dieser besonderen Schau zu feiern. \nHier können Sie sich die Rede zur Ausstellungseröffnung lesen: \nRede Pia zur Vernissage am 24. Januar
URL:https://www.villa-ichon.de/kalender/einladung-zur-finissage-der-ausstellung-human-nature/
LOCATION:Alle Räume (Kaminsaal\, Goldener und Weißer Saal)
ATTACH;FMTTYPE=image/jpeg:https://www.villa-ichon.de/wp-content/uploads/HumanNature-VillaIchon-PiaEvanNuland-RGB.jpg
END:VEVENT
BEGIN:VEVENT
DTSTART;TZID=Europe/Berlin:20260419T170000
DTEND;TZID=Europe/Berlin:20260419T170000
DTSTAMP:20260423T105821
CREATED:20260314T161806Z
LAST-MODIFIED:20260314T161806Z
UID:10001796-1776618000-1776618000@www.villa-ichon.de
SUMMARY:Das LitQ lädt ein: John Fowles „Magus“
DESCRIPTION:John Fowles „Magus“ \nDer Roman erschien erstmals 1965/77\, ist gleichwohl nicht etwa ein Beitrag zur literarischen Postmoderne\, für deren angelsächsische Variante John Fowles später als Wegbereiter steht. „Magus“ stellt – wenn man derlei Schubladen mag – reinen literarischen Konstruktivismus dar\, indem er ein völlig eigenes\, zunächst mysteriöses Universum entwirft\, worin sich eine extreme Form klassischer „éducation sentimentale“ seines jungen Protagonisten abspielt; das Ganze ist weitgehend auf einer kleinen griechischen Insel\, ein knappes Jahrzehnt nach Ende des Zweiten Weltkriegs angesiedelt\, inkl. der Besatzung Griechenlands durch deutsche Truppen unter heftiger Partisanen-Gegenwehr. \nZur Lesung ausgewählt sind nicht die Höhepunkte an Spannung\, Spektakel\, gar vermeintlicher Magie\, die das Buch auch bietet\, sondern eher literarisches Decrescendo\, Ritardando und seine Fermaten quasi als Ausruh-Momente. \nAus Anlass des 100. Geburtstags von John Fowles lesen \nMichael Lehmann & Compagnie \nEine Veranstaltung des Literarischen Quartiers in Kooperation mit dem Bremer Literaturhaus und der Deutschen John-Fowles-Gesellschaft \n  \n  \n 
URL:https://www.villa-ichon.de/kalender/das-litq-laedt-ein-john-fowles-magus/
LOCATION:Goldener Saal
CATEGORIES:Lesung,Musik
ATTACH;FMTTYPE=image/png:https://www.villa-ichon.de/wp-content/uploads/Bild1.png
END:VEVENT
END:VCALENDAR